BEGIN:VCALENDAR
VERSION:2.0
PRODID:-//Evesham Historical Society - ECPv6.15.20//NONSGML v1.0//EN
CALSCALE:GREGORIAN
METHOD:PUBLISH
X-ORIGINAL-URL:https://eveshamhistoricalsociety.org
X-WR-CALDESC:Events for Evesham Historical Society
REFRESH-INTERVAL;VALUE=DURATION:PT1H
X-Robots-Tag:noindex
X-PUBLISHED-TTL:PT1H
BEGIN:VTIMEZONE
TZID:America/New_York
BEGIN:DAYLIGHT
TZOFFSETFROM:-0500
TZOFFSETTO:-0400
TZNAME:EDT
DTSTART:20250309T070000
END:DAYLIGHT
BEGIN:STANDARD
TZOFFSETFROM:-0400
TZOFFSETTO:-0500
TZNAME:EST
DTSTART:20251102T060000
END:STANDARD
BEGIN:DAYLIGHT
TZOFFSETFROM:-0500
TZOFFSETTO:-0400
TZNAME:EDT
DTSTART:20260308T070000
END:DAYLIGHT
BEGIN:STANDARD
TZOFFSETFROM:-0400
TZOFFSETTO:-0500
TZNAME:EST
DTSTART:20261101T060000
END:STANDARD
BEGIN:DAYLIGHT
TZOFFSETFROM:-0500
TZOFFSETTO:-0400
TZNAME:EDT
DTSTART:20270314T070000
END:DAYLIGHT
BEGIN:STANDARD
TZOFFSETFROM:-0400
TZOFFSETTO:-0500
TZNAME:EST
DTSTART:20271107T060000
END:STANDARD
END:VTIMEZONE
BEGIN:VEVENT
DTSTART;TZID=America/New_York:20260711T100000
DTEND;TZID=America/New_York:20260711T150000
DTSTAMP:20260425T202946
CREATED:20260331T181402Z
LAST-MODIFIED:20260331T181403Z
UID:10000522-1783764000-1783782000@eveshamhistoricalsociety.org
SUMMARY:America 250 Evesham
DESCRIPTION:Lots of activities for the whole family including colonial craft demonstrations\, scavenger hunt\, music\, and games.  We will be there representing displaying artifacts relevant to other activities. \n  \n  \n  \n 
URL:https://eveshamhistoricalsociety.org/event/america-250-evesham/
LOCATION:Pomenade\, 8000 Sagemore Dr\, Evesham\, NJ\, 08053
CATEGORIES:Community Event
END:VEVENT
BEGIN:VEVENT
DTSTART;TZID=America/New_York:20260721T080000
DTEND;TZID=America/New_York:20260721T210000
DTSTAMP:20260425T202946
CREATED:20260405T234418Z
LAST-MODIFIED:20260405T234418Z
UID:10001412-1784620800-1784667600@eveshamhistoricalsociety.org
SUMMARY:Burlington County Farm Fair
DESCRIPTION:Come visit us in the History Tent.  There will be lots of America 250 events happening.
URL:https://eveshamhistoricalsociety.org/event/burlington-county-farm-fair-3/
LOCATION:Burlington County airgrounds\, 1794 Jacksonville Jobstown Road\, Columbus\, NJ\, 08022\, United States
CATEGORIES:Community Event
END:VEVENT
BEGIN:VEVENT
DTSTART;TZID=America/New_York:20260803T090000
DTEND;TZID=America/New_York:20260803T100000
DTSTAMP:20260425T202946
CREATED:20260405T234858Z
LAST-MODIFIED:20260405T234931Z
UID:10001413-1785747600-1785751200@eveshamhistoricalsociety.org
SUMMARY:Clean Communities
DESCRIPTION:Join us to clean up Cambridge Park
URL:https://eveshamhistoricalsociety.org/event/clean-communities-2/
LOCATION:Cambridge Park\, 30 Palmetto Ave\, Marlton
CATEGORIES:Community Event
END:VEVENT
BEGIN:VEVENT
DTSTART;TZID=America/New_York:20260804T170000
DTEND;TZID=America/New_York:20260804T210000
DTSTAMP:20260425T202946
CREATED:20260405T235613Z
LAST-MODIFIED:20260405T235720Z
UID:10001414-1785862800-1785877200@eveshamhistoricalsociety.org
SUMMARY:Evesham Township Night Out
DESCRIPTION:Come out and join the community for food\, fun and fireworks!  Stop by our booth to see historic pictures of Evesham and learn about the Evesham Historical Society.
URL:https://eveshamhistoricalsociety.org/event/evesham-township-night-out/
LOCATION:Evesham Municipal Building\, 984 Tuckerton road\, Marlton
CATEGORIES:Community Event
END:VEVENT
END:VCALENDAR