BEGIN:VCALENDAR
VERSION:2.0
PRODID:-//Evesham Historical Society - ECPv6.15.18//NONSGML v1.0//EN
CALSCALE:GREGORIAN
METHOD:PUBLISH
X-WR-CALNAME:Evesham Historical Society
X-ORIGINAL-URL:https://eveshamhistoricalsociety.org
X-WR-CALDESC:Events for Evesham Historical Society
REFRESH-INTERVAL;VALUE=DURATION:PT1H
X-Robots-Tag:noindex
X-PUBLISHED-TTL:PT1H
BEGIN:VTIMEZONE
TZID:America/New_York
BEGIN:DAYLIGHT
TZOFFSETFROM:-0500
TZOFFSETTO:-0400
TZNAME:EDT
DTSTART:20240310T070000
END:DAYLIGHT
BEGIN:STANDARD
TZOFFSETFROM:-0400
TZOFFSETTO:-0500
TZNAME:EST
DTSTART:20241103T060000
END:STANDARD
BEGIN:DAYLIGHT
TZOFFSETFROM:-0500
TZOFFSETTO:-0400
TZNAME:EDT
DTSTART:20250309T070000
END:DAYLIGHT
BEGIN:STANDARD
TZOFFSETFROM:-0400
TZOFFSETTO:-0500
TZNAME:EST
DTSTART:20251102T060000
END:STANDARD
BEGIN:DAYLIGHT
TZOFFSETFROM:-0500
TZOFFSETTO:-0400
TZNAME:EDT
DTSTART:20260308T070000
END:DAYLIGHT
BEGIN:STANDARD
TZOFFSETFROM:-0400
TZOFFSETTO:-0500
TZNAME:EST
DTSTART:20261101T060000
END:STANDARD
END:VTIMEZONE
BEGIN:VEVENT
DTSTART;TZID=America/New_York:20251018T120000
DTEND;TZID=America/New_York:20251018T140000
DTSTAMP:20260420T020807
CREATED:20250708T165338Z
LAST-MODIFIED:20250803T180531Z
UID:10000330-1760788800-1760796000@eveshamhistoricalsociety.org
SUMMARY:Oktober Fest
DESCRIPTION:We are celebrating Oktober Fest with a  German lunch and complimentary craft beer (limit 2). A free tour of the John Inskeep Homestead is included after lunch. \n 
URL:https://eveshamhistoricalsociety.org/event/oktober-fest/
LOCATION:John Inskeep House\, 10 Madison Court\, Marlton\, NJ\, 08053\, United States
CATEGORIES:Oktober Fest luncheon
ATTACH;FMTTYPE=application/pdf:https://eveshamhistoricalsociety.org/wp-content/uploads/2025/07/Oktoberfest-EHS-2025-final-3.pdf
END:VEVENT
END:VCALENDAR