BEGIN:VCALENDAR
VERSION:2.0
PRODID:-//Evesham Historical Society - ECPv6.15.20//NONSGML v1.0//EN
CALSCALE:GREGORIAN
METHOD:PUBLISH
X-ORIGINAL-URL:https://eveshamhistoricalsociety.org
X-WR-CALDESC:Events for Evesham Historical Society
REFRESH-INTERVAL;VALUE=DURATION:PT1H
X-Robots-Tag:noindex
X-PUBLISHED-TTL:PT1H
BEGIN:VTIMEZONE
TZID:America/New_York
BEGIN:DAYLIGHT
TZOFFSETFROM:-0500
TZOFFSETTO:-0400
TZNAME:EDT
DTSTART:20250309T070000
END:DAYLIGHT
BEGIN:STANDARD
TZOFFSETFROM:-0400
TZOFFSETTO:-0500
TZNAME:EST
DTSTART:20251102T060000
END:STANDARD
BEGIN:DAYLIGHT
TZOFFSETFROM:-0500
TZOFFSETTO:-0400
TZNAME:EDT
DTSTART:20260308T070000
END:DAYLIGHT
BEGIN:STANDARD
TZOFFSETFROM:-0400
TZOFFSETTO:-0500
TZNAME:EST
DTSTART:20261101T060000
END:STANDARD
BEGIN:DAYLIGHT
TZOFFSETFROM:-0500
TZOFFSETTO:-0400
TZNAME:EDT
DTSTART:20270314T070000
END:DAYLIGHT
BEGIN:STANDARD
TZOFFSETFROM:-0400
TZOFFSETTO:-0500
TZNAME:EST
DTSTART:20271107T060000
END:STANDARD
END:VTIMEZONE
BEGIN:VEVENT
DTSTART;TZID=America/New_York:20260504T090000
DTEND;TZID=America/New_York:20260504T100000
DTSTAMP:20260424T084831
CREATED:20260325T000105Z
LAST-MODIFIED:20260325T000105Z
UID:10000517-1777885200-1777888800@eveshamhistoricalsociety.org
SUMMARY:Clean Community
DESCRIPTION:Join us to pick up trash at Cambridge Park.
URL:https://eveshamhistoricalsociety.org/event/clean-community/
LOCATION:Cambridge Park\, 30 Palmetto Ave\, Marlton
CATEGORIES:Community Event
END:VEVENT
BEGIN:VEVENT
DTSTART;TZID=America/New_York:20260523T190000
DTEND;TZID=America/New_York:20260523T230000
DTSTAMP:20260424T084831
CREATED:20260202T221558Z
LAST-MODIFIED:20260202T221558Z
UID:10000515-1779562800-1779577200@eveshamhistoricalsociety.org
SUMMARY:Ghost Hunt
DESCRIPTION:Come explore paranormal activity at the John Inskeep Homestead with New Jersey Paranormal.  All ticket information can be obtained by following New Jersey Paranormal on Facebook.  Be aware that once the event is posted tickets often sell out within 24 hours so be vigilant.
URL:https://eveshamhistoricalsociety.org/event/ghost-hunt-5/2026-05-23/
LOCATION:John Inskeep House\, 10 Madison Court\, Marlton\, NJ\, 08053\, United States
CATEGORIES:Ghost Hunt
ORGANIZER;CN="New Jersey Paranormal":MAILTO:nejerseyparanoormal@yahoo.com
END:VEVENT
BEGIN:VEVENT
DTSTART;TZID=America/New_York:20260713T133000
DTEND;TZID=America/New_York:20260713T170000
DTSTAMP:20260424T084831
CREATED:20260331T183256Z
LAST-MODIFIED:20260405T233600Z
UID:10000523-1783949400-1783962000@eveshamhistoricalsociety.org
SUMMARY:History Makers Museum Camp
DESCRIPTION:Something different for the kids to do this summer.  The 5 day camp is located in the John Inskeep Homestead and will feature exploring the homestead museum and learning first hand about life in colonial times.  Play old time games\, learn colonial crafts\, bring a project home each day. Most importantly have fun! Open to children age 6-12.  Operated by Help for Small Museums and the Evesham Historical Society.  Fully insured.
URL:https://eveshamhistoricalsociety.org/event/history-makers-museum-camp/2026-07-13/
LOCATION:John Inskeep House\, 10 Madison Court\, Marlton\, NJ\, 08053\, United States
CATEGORIES:Summer History Camp
END:VEVENT
BEGIN:VEVENT
DTSTART;TZID=America/New_York:20260714T130000
DTEND;TZID=America/New_York:20260714T170000
DTSTAMP:20260424T084831
CREATED:20260331T183256Z
LAST-MODIFIED:20260405T233600Z
UID:10001404-1784034000-1784048400@eveshamhistoricalsociety.org
SUMMARY:History Makers Museum Camp
DESCRIPTION:Something different for the kids to do this summer.  The 5 day camp is located in the John Inskeep Homestead and will feature exploring the homestead museum and learning first hand about life in colonial times.  Play old time games\, learn colonial crafts\, bring a project home each day. Most importantly have fun! Open to children age 6-12.  Operated by Help for Small Museums and the Evesham Historical Society.  Fully insured.
URL:https://eveshamhistoricalsociety.org/event/history-makers-museum-camp/2026-07-14/
LOCATION:John Inskeep House\, 10 Madison Court\, Marlton\, NJ\, 08053\, United States
CATEGORIES:Summer History Camp
END:VEVENT
BEGIN:VEVENT
DTSTART;TZID=America/New_York:20260715T080000
DTEND;TZID=America/New_York:20260715T170000
DTSTAMP:20260424T084831
CREATED:20260331T183256Z
LAST-MODIFIED:20260405T233600Z
UID:10001405-1784102400-1784134800@eveshamhistoricalsociety.org
SUMMARY:History Makers Museum Camp
DESCRIPTION:Something different for the kids to do this summer.  The 5 day camp is located in the John Inskeep Homestead and will feature exploring the homestead museum and learning first hand about life in colonial times.  Play old time games\, learn colonial crafts\, bring a project home each day. Most importantly have fun! Open to children age 6-12.  Operated by Help for Small Museums and the Evesham Historical Society.  Fully insured.
URL:https://eveshamhistoricalsociety.org/event/history-makers-museum-camp/2026-07-15/
LOCATION:John Inskeep House\, 10 Madison Court\, Marlton\, NJ\, 08053\, United States
CATEGORIES:Summer History Camp
END:VEVENT
BEGIN:VEVENT
DTSTART;TZID=America/New_York:20260716T080000
DTEND;TZID=America/New_York:20260716T170000
DTSTAMP:20260424T084831
CREATED:20260331T183256Z
LAST-MODIFIED:20260405T233600Z
UID:10001406-1784188800-1784221200@eveshamhistoricalsociety.org
SUMMARY:History Makers Museum Camp
DESCRIPTION:Something different for the kids to do this summer.  The 5 day camp is located in the John Inskeep Homestead and will feature exploring the homestead museum and learning first hand about life in colonial times.  Play old time games\, learn colonial crafts\, bring a project home each day. Most importantly have fun! Open to children age 6-12.  Operated by Help for Small Museums and the Evesham Historical Society.  Fully insured.
URL:https://eveshamhistoricalsociety.org/event/history-makers-museum-camp/2026-07-16/
LOCATION:John Inskeep House\, 10 Madison Court\, Marlton\, NJ\, 08053\, United States
CATEGORIES:Summer History Camp
END:VEVENT
BEGIN:VEVENT
DTSTART;TZID=America/New_York:20260717T080000
DTEND;TZID=America/New_York:20260717T170000
DTSTAMP:20260424T084831
CREATED:20260331T183256Z
LAST-MODIFIED:20260405T233600Z
UID:10001407-1784275200-1784307600@eveshamhistoricalsociety.org
SUMMARY:History Makers Museum Camp
DESCRIPTION:Something different for the kids to do this summer.  The 5 day camp is located in the John Inskeep Homestead and will feature exploring the homestead museum and learning first hand about life in colonial times.  Play old time games\, learn colonial crafts\, bring a project home each day. Most importantly have fun! Open to children age 6-12.  Operated by Help for Small Museums and the Evesham Historical Society.  Fully insured.
URL:https://eveshamhistoricalsociety.org/event/history-makers-museum-camp/2026-07-17/
LOCATION:John Inskeep House\, 10 Madison Court\, Marlton\, NJ\, 08053\, United States
CATEGORIES:Summer History Camp
END:VEVENT
BEGIN:VEVENT
DTSTART;TZID=America/New_York:20260815T190000
DTEND;TZID=America/New_York:20260815T230000
DTSTAMP:20260424T084831
CREATED:20260202T221558Z
LAST-MODIFIED:20260202T221558Z
UID:10000516-1786820400-1786834800@eveshamhistoricalsociety.org
SUMMARY:Ghost Hunt
DESCRIPTION:Come explore paranormal activity at the John Inskeep Homestead with New Jersey Paranormal.  All ticket information can be obtained by following New Jersey Paranormal on Facebook.  Be aware that once the event is posted tickets often sell out within 24 hours so be vigilant.
URL:https://eveshamhistoricalsociety.org/event/ghost-hunt-5/2026-08-15/
LOCATION:John Inskeep House\, 10 Madison Court\, Marlton\, NJ\, 08053\, United States
CATEGORIES:Ghost Hunt
ORGANIZER;CN="New Jersey Paranormal":MAILTO:nejerseyparanoormal@yahoo.com
END:VEVENT
END:VCALENDAR