BEGIN:VCALENDAR
VERSION:2.0
PRODID:-//Evesham Historical Society - ECPv6.15.20//NONSGML v1.0//EN
CALSCALE:GREGORIAN
METHOD:PUBLISH
X-ORIGINAL-URL:https://eveshamhistoricalsociety.org
X-WR-CALDESC:Events for Evesham Historical Society
REFRESH-INTERVAL;VALUE=DURATION:PT1H
X-Robots-Tag:noindex
X-PUBLISHED-TTL:PT1H
BEGIN:VTIMEZONE
TZID:America/New_York
BEGIN:DAYLIGHT
TZOFFSETFROM:-0500
TZOFFSETTO:-0400
TZNAME:EDT
DTSTART:20250309T070000
END:DAYLIGHT
BEGIN:STANDARD
TZOFFSETFROM:-0400
TZOFFSETTO:-0500
TZNAME:EST
DTSTART:20251102T060000
END:STANDARD
BEGIN:DAYLIGHT
TZOFFSETFROM:-0500
TZOFFSETTO:-0400
TZNAME:EDT
DTSTART:20260308T070000
END:DAYLIGHT
BEGIN:STANDARD
TZOFFSETFROM:-0400
TZOFFSETTO:-0500
TZNAME:EST
DTSTART:20261101T060000
END:STANDARD
BEGIN:DAYLIGHT
TZOFFSETFROM:-0500
TZOFFSETTO:-0400
TZNAME:EDT
DTSTART:20270314T070000
END:DAYLIGHT
BEGIN:STANDARD
TZOFFSETFROM:-0400
TZOFFSETTO:-0500
TZNAME:EST
DTSTART:20271107T060000
END:STANDARD
END:VTIMEZONE
BEGIN:VEVENT
DTSTART;TZID=America/New_York:20260415T190000
DTEND;TZID=America/New_York:20260415T203000
DTSTAMP:20260424T153301
CREATED:20260111T005558Z
LAST-MODIFIED:20260115T224217Z
UID:10000421-1776279600-1776285000@eveshamhistoricalsociety.org
SUMMARY:Picturing Washington’s Army: Eyewitness Images of the Continental Troops
DESCRIPTION:Presented by Matt Skic\, a native to New Jersey\, received his undergraduate degree at the American University and his Masters at the University of Delaware.  He is Director of Collections at the Museum of the American Revolution\, in Philadelphia. He is the author/co-author of three books and has curated multiple award-winning exhibits.  Learn from Matt about a special witness to the Continental troops. \nLast in a series of five free lectures celebrating America’s Independence.
URL:https://eveshamhistoricalsociety.org/event/picturing-washingtons-army-eyewitness-of-the-continental-troops/
LOCATION:Marlton Middle School\, 150 Tomlinson Mill Road\, Marlton\, NJ\, 08053\, United States
CATEGORIES:Community Event
END:VEVENT
BEGIN:VEVENT
DTSTART;TZID=America/New_York:20260311T190000
DTEND;TZID=America/New_York:20260311T203000
DTSTAMP:20260424T153301
CREATED:20260111T004946Z
LAST-MODIFIED:20260111T005115Z
UID:10000420-1773255600-1773261000@eveshamhistoricalsociety.org
SUMMARY:Washington’s Crossing the Delaware and the Battles of Trenton and Princeton
DESCRIPTION:Join Alex Robb\, an interpretive program specialist with the Friends of Washinton Crossing Park tell of these very important battles. Alex is a graduate of the College of New Jersey with interest in history and education.  This led him to working in a school and volunteering as a re-enactor with the Hamilton Twp Historical Society. \nFourth in a series of five free lectures celebrating America’s Independence.
URL:https://eveshamhistoricalsociety.org/event/washingtons-crossing-the-delaware-and-the-battles-of-trenton-and-princeton/
LOCATION:Marlton Middle School\, 150 Tomlinson Mill Road\, Marlton\, NJ\, 08053\, United States
CATEGORIES:Community Event
END:VEVENT
BEGIN:VEVENT
DTSTART;TZID=America/New_York:20260211T190000
DTEND;TZID=America/New_York:20260211T203000
DTSTAMP:20260424T153301
CREATED:20260111T004154Z
LAST-MODIFIED:20260111T004154Z
UID:10000419-1770836400-1770841800@eveshamhistoricalsociety.org
SUMMARY:A Celebration of the 250th Anniversary of the Declaration of Independence
DESCRIPTION:  \nPresented by Dr. Emily Sneff\, an early American historian and expert on the Declaration of Independence. Emily received her undergraduate degree in history from Johns Hopkins University and her MA and PhD from William and Mary University in Williamsburg\, VA.  Emily is currently\, a special exhibit curator at the Museum of the American Revolution in Philadelphia and conducts a weekly online series called Declaration Stories until July of 2026. Emily will talk about both the document and its dissemination in the Colonies. \nThird in a series of five free lectures celebrating America’s Independence.
URL:https://eveshamhistoricalsociety.org/event/a-celebration-of-the-250th-anniversary-of-the-declaration-of-independence/
LOCATION:Marlton Middle School\, 150 Tomlinson Mill Road\, Marlton\, NJ\, 08053\, United States
CATEGORIES:Community Event
END:VEVENT
BEGIN:VEVENT
DTSTART;TZID=America/New_York:20260114T190000
DTEND;TZID=America/New_York:20260114T203000
DTSTAMP:20260424T153301
CREATED:20260110T223950Z
LAST-MODIFIED:20260110T223950Z
UID:10000418-1768417200-1768422600@eveshamhistoricalsociety.org
SUMMARY:The American Revolution in Evesham and Burlington County
DESCRIPTION:Historian Eric Orange will be discussing Revolutionary War events that took place in Evesham Township and Burlington County. This is a the second in a series of free lectures sponsored by the Evesham Historical Society to celebrate America’s 250 years of Independence and the people and events that made it all possible.
URL:https://eveshamhistoricalsociety.org/event/the-american-revolution-in-evesham-and-burlington-county/
LOCATION:Marlton Middle School\, 150 Tomlinson Mill Road\, Marlton\, NJ\, 08053\, United States
END:VEVENT
END:VCALENDAR