BEGIN:VCALENDAR
VERSION:2.0
PRODID:-//Evesham Historical Society - ECPv6.15.20//NONSGML v1.0//EN
CALSCALE:GREGORIAN
METHOD:PUBLISH
X-WR-CALNAME:Evesham Historical Society
X-ORIGINAL-URL:https://eveshamhistoricalsociety.org
X-WR-CALDESC:Events for Evesham Historical Society
REFRESH-INTERVAL;VALUE=DURATION:PT1H
X-Robots-Tag:noindex
X-PUBLISHED-TTL:PT1H
BEGIN:VTIMEZONE
TZID:America/New_York
BEGIN:DAYLIGHT
TZOFFSETFROM:-0500
TZOFFSETTO:-0400
TZNAME:EDT
DTSTART:20240310T070000
END:DAYLIGHT
BEGIN:STANDARD
TZOFFSETFROM:-0400
TZOFFSETTO:-0500
TZNAME:EST
DTSTART:20241103T060000
END:STANDARD
BEGIN:DAYLIGHT
TZOFFSETFROM:-0500
TZOFFSETTO:-0400
TZNAME:EDT
DTSTART:20250309T070000
END:DAYLIGHT
BEGIN:STANDARD
TZOFFSETFROM:-0400
TZOFFSETTO:-0500
TZNAME:EST
DTSTART:20251102T060000
END:STANDARD
BEGIN:DAYLIGHT
TZOFFSETFROM:-0500
TZOFFSETTO:-0400
TZNAME:EDT
DTSTART:20260308T070000
END:DAYLIGHT
BEGIN:STANDARD
TZOFFSETFROM:-0400
TZOFFSETTO:-0500
TZNAME:EST
DTSTART:20261101T060000
END:STANDARD
END:VTIMEZONE
BEGIN:VEVENT
DTSTART;TZID=America/New_York:20250715T160000
DTEND;TZID=America/New_York:20250715T190000
DTSTAMP:20260424T232621
CREATED:20250703T145008Z
LAST-MODIFIED:20250703T145008Z
UID:10000320-1752595200-1752606000@eveshamhistoricalsociety.org
SUMMARY:Rita's Water Ice Fundraiser
DESCRIPTION:Stop by Rita’s on Maple Avenue Marlton for some refreshing water ice\, meet learn more about and support the Evesham Historical Society.
URL:https://eveshamhistoricalsociety.org/event/ritas-water-ice-fundraiser/
LOCATION:Rita’s Maple Avenue Marlton
CATEGORIES:Dine and Donate
END:VEVENT
END:VCALENDAR